BEGIN:VCALENDAR
VERSION:2.0
PRODID:-//eventon.com NONSGML v1.0//EN
CALSCALE:GREGORIAN
METHOD:PUBLISH
BEGIN:VEVENT
UID:69e7f3b8a2248
DTSTAMP:20260421T220128Z
DTSTART:20250921T123000Z
DTEND:20250921T160000Z
LOCATION:
SUMMARY:Carolyn Packer's Stompin' Rhythm Aces | Jazz at the Pines
DESCRIPTION:Carolyn Packer's Stompin' Rhythm Aces | Jazz at the Pines Sun 2
 1 Sep | 12:30 PM | Details Here Come and watch my FABULOUS Jazz Band!\nhttp
 s://carolynpackermusic.com/events/carolyn-packers-stompin-rhythm-aces-jazza
 tthepines/
URL:https://carolynpackermusic.com/events/carolyn-packers-stompin-rhythm-aces-jazzatthepines/
END:VEVENT
END:VCALENDAR