BEGIN:VCALENDAR
VERSION:2.0
PRODID:-//eventon.com NONSGML v1.0//EN
CALSCALE:GREGORIAN
METHOD:PUBLISH
BEGIN:VEVENT
UID:69e89c2c66fd3
DTSTAMP:20260422T100012Z
DTSTART:20250518T150000Z
DTEND:20250518T180000Z
LOCATION:
SUMMARY:Bonnie Kay and the Sweet Patooties | Groove Cruise - Sunday 18 May
DESCRIPTION:Bonnie Kay and the Sweet Patooties | Groove Cruise Departs from
  Brooklyn Public Wharf Sun 18 May 2025 | 3 - 6 PM Come and watch Bonnie Kay
  and the Sweet Patooties\,  and dance your blues away! Get tickets Here\nht
 tps://carolynpackermusic.com/events/bonnie-kay-and-the-sweet-patooties-groo
 ve-cruise-sunday-18-may/
URL:https://carolynpackermusic.com/events/bonnie-kay-and-the-sweet-patooties-groove-cruise-sunday-18-may/
END:VEVENT
END:VCALENDAR