BEGIN:VCALENDAR
VERSION:2.0
PRODID:-//eventon.com NONSGML v1.0//EN
CALSCALE:GREGORIAN
METHOD:PUBLISH
BEGIN:VEVENT
UID:69e87ab55287b
DTSTAMP:20260422T073725Z
DTSTART:20250615T150000Z
DTEND:20250615T180000Z
LOCATION:
SUMMARY:Bonnie Kay and the Sweet Patooties | Polish Club\,  Ashfield
DESCRIPTION:Bonnie Kay and the Sweet Patooties | Polish Club\,  Ashfield Su
 n 15 Jun 2025 | 3 PM Come and watch Bonnie Kay and the Sweet Patooties\,  a
 nd dance your blues away! Polish Club\,  Ashfield\nhttps://carolynpackermus
 ic.com/events/bonnie-kay-and-the-sweet-patooties-polish-club-ashfield-7/
URL:https://carolynpackermusic.com/events/bonnie-kay-and-the-sweet-patooties-polish-club-ashfield-7/
END:VEVENT
END:VCALENDAR