BEGIN:VCALENDAR
VERSION:2.0
PRODID:-//eventon.com NONSGML v1.0//EN
CALSCALE:GREGORIAN
METHOD:PUBLISH
BEGIN:VEVENT
UID:69e74b000495b
DTSTAMP:20260421T100136Z
DTSTART:20250202T150000Z
DTEND:20250202T180000Z
LOCATION:
SUMMARY:Bonnie Kay and the Sweet Patooties | Polish Club\,  Ashfield
DESCRIPTION:Bonnie Kay and the Sweet Patooties | Polish Club\,  Ashfield Su
 n 2 Feb 2025 | 3 PM Come and watch Bonnie Kay and the Sweet Patooties\,  an
 d dance your blues away! Polish Club\,  Ashfield\nhttps://carolynpackermusi
 c.com/events/bonnie-kay-and-the-sweet-patooties-polish-club-ashfield-3/
URL:https://carolynpackermusic.com/events/bonnie-kay-and-the-sweet-patooties-polish-club-ashfield-3/
END:VEVENT
END:VCALENDAR