BEGIN:VCALENDAR
VERSION:2.0
PRODID:-//eventon.com NONSGML v1.0//EN
CALSCALE:GREGORIAN
METHOD:PUBLISH
BEGIN:VEVENT
UID:69e75d09ed0ff
DTSTAMP:20260421T111833Z
DTSTART:20241109T090000Z
DTEND:20241109T120000Z
LOCATION:
SUMMARY:BONNIE KAY AND THE SWEET PATOOTIES | Merton Hotel | 09 Nov 2024
DESCRIPTION:BONNIE KAY AND THE SWEET PATOOTIES | Merton Hotel 09 Nov 2024 |
  8 PM The band has a residency here - on the second Saturday of every month
 ! See you there! https://themertonhotel.au/\nhttps://carolynpackermusic.com
 /events/bonnie-kay-and-the-sweet-patooties-merton-hotel-09-nov-2024/
URL:https://carolynpackermusic.com/events/bonnie-kay-and-the-sweet-patooties-merton-hotel-09-nov-2024/
END:VEVENT
END:VCALENDAR