BEGIN:VCALENDAR
VERSION:2.0
PRODID:-//eventon.com NONSGML v1.0//EN
CALSCALE:GREGORIAN
METHOD:PUBLISH
BEGIN:VEVENT
UID:69e75d4b9970a
DTSTAMP:20260421T111939Z
DTSTART:20241207T130000Z
DTEND:20241207T160000Z
LOCATION:
SUMMARY:Carolyn Packer\,  Fiona Lugg | Christmas Special with special guests | The Fat Goose\,  Killcare
DESCRIPTION:Carolyn Packer\,  Fiona Lugg | Christmas Special with special g
 uests | The Fat Goose\,  Killcare 07 Dec 2024 | 1:00 PM Come and watch Car
 olyn on piano\,  Fiona on bass and guests at the Fat Goose\,  Hardy's Bay\,
   NSW! We'll be playing your favourite jazzy Christmas tunes!\nhttps://caro
 lynpackermusic.com/events/carolyn-packer-and-fiona-lugg-christmas-special/
URL:https://carolynpackermusic.com/events/carolyn-packer-and-fiona-lugg-christmas-special/
END:VEVENT
END:VCALENDAR