BEGIN:VCALENDAR
VERSION:2.0
PRODID:-//eventon.com NONSGML v1.0//EN
CALSCALE:GREGORIAN
METHOD:PUBLISH
BEGIN:VEVENT
UID:69eb011069154
DTSTAMP:20260424T053512Z
DTSTART:20241126T080000Z
DTEND:20241126T110000Z
LOCATION:
SUMMARY:Carolyn Packer & Cameron Jones | Thunderbolt Club - Royal Oak Hotel
DESCRIPTION:Carolyn Packer & Cameron Jones | Thunderbolt Club - Royal Oak H
 otel Come and watch my great friend Cameron Jones (guitar) and me in our Ne
 w Orleans to Paris show\,  with David Seidel on bass and Fransisco Rojas on
  drums. 36 College Street\,  Birchgrove\,  Sydney\,  NSW. Tickets Here &nbs
 p;\nhttps://carolynpackermusic.com/events/carolyn-packer-cameron-jones-thun
 derbolt-club/
URL:https://carolynpackermusic.com/events/carolyn-packer-cameron-jones-thunderbolt-club/
END:VEVENT
END:VCALENDAR