BEGIN:VCALENDAR
VERSION:2.0
PRODID:-//eventon.com NONSGML v1.0//EN
CALSCALE:GREGORIAN
METHOD:PUBLISH
BEGIN:VEVENT
UID:69e62667c1b4c
DTSTAMP:20260420T131311Z
DTSTART:20240814T100000Z
DTEND:20240814T120000Z
LOCATION:
SUMMARY:Wednesday evenings at the Link and Pin – Woy Woy
DESCRIPTION:I’m looking forward to playing jazz at the Link and Pin\,  Wo
 y Woy. Wednesday 14 August | 8-10 pm| Free entry Filling in while Roderick 
 White is away.\nhttps://carolynpackermusic.com/events/wednesday-evenings-at
 -the-link-and-pin-woy-woy-copy-copy/
URL:https://carolynpackermusic.com/events/wednesday-evenings-at-the-link-and-pin-woy-woy-copy-copy/
END:VEVENT
END:VCALENDAR